BEGIN:VCALENDAR
VERSION:2.0
PRODID:-//Contratero//ES
CALSCALE:GREGORIAN
METHOD:PUBLISH
BEGIN:VEVENT
UID:CO-2019/585-B 54@contratero.es
DTSTAMP:20260419T210210Z
DTSTART:20201217T235959
DTEND:20201218T005959
SUMMARY:Cierre: Contrato Basado nº 54: Asistencia técnica en mater
DESCRIPTION:Contrato Basado nº 54: Asistencia técnica en materia de actualización de inventario municipal\, con destino al Ayuntamiento de Santa Elena.\nAcuerdo Marco: Servicios de Asistencia Técnica en materia Eco...\\n\\nOrganismo: Presidencia de la Diputación Provincial de Jaén\\n\\nVer en Contratero: https://contratero.es/contracts/CO-2019/585-B 54
URL:https://contratero.es/contracts/CO-2019/585-B 54
STATUS:CONFIRMED
BEGIN:VALARM
TRIGGER:-P1D
ACTION:DISPLAY
DESCRIPTION:Recordatorio: Contrato Basado nº 54: Asisten
END:VALARM
END:VEVENT
END:VCALENDAR